BEGIN:VCALENDAR
VERSION:2.0
PRODID:-//www.drfonline.org//event
CALSCALE:GREGORIAN
METHOD:PUBLISH
BEGIN:VEVENT
SUMMARY:Concurrent Session 1 - Advanced Tract
UID:AF30F6669247E50829DB5879E9639CA5
ORGANIZER:MAILTO:lmerricks@drfonline.org
DTSTART:20190511T064500
DTEND:20190511T080000
DTSTAMP:20260420T094049
DESCRIPTION: Momenta:&nbsp;Online tools for civic engagement
X-ALT-DESC;FMTTYPE=text/html:<!DOCTYPE HTML PUBLIC ""-//W3C//DTD HTML 3.2//
 EN""><HTML><BODY>\n<p><strong>Momenta:&nbsp;</strong>Online tools for ci
 vic engagement</p>\n</BODY></HTML>
END:VEVENT
END:VCALENDAR