BEGIN:VCALENDAR
VERSION:2.0
PRODID:-//www.drfonline.org//event
CALSCALE:GREGORIAN
METHOD:PUBLISH
BEGIN:VEVENT
SUMMARY:Concurrent Session 1 - Youth Tract
UID:AEED2A80E3590F1CF8A32B580A41DFC0
ORGANIZER:MAILTO:lmerricks@drfonline.org
DTSTART:20190511T064500
DTEND:20190511T080000
DTSTAMP:20260420T093325
DESCRIPTION: 4-H/VA Coop Ext.:&nbsp;Team Building&nbsp;
X-ALT-DESC;FMTTYPE=text/html:<!DOCTYPE HTML PUBLIC ""-//W3C//DTD HTML 3.2//
 EN""><HTML><BODY>\n<p><strong>4-H/VA Coop Ext.</strong>:&nbsp;Team Build
 ing&nbsp;</p>\n</BODY></HTML>
END:VEVENT
END:VCALENDAR