BEGIN:VCALENDAR
VERSION:2.0
PRODID:-//www.drfonline.org//event
CALSCALE:GREGORIAN
METHOD:PUBLISH
BEGIN:VEVENT
SUMMARY:Concurrent Session 2 - Beginner Tract
UID:AF2BAC51B340D822D3B8528D925AFEFF
ORGANIZER:MAILTO:lmerricks@drfonline.org
DTSTART:20190511T094500
DTEND:20190511T110000
DTSTAMP:20260420T094015
DESCRIPTION: 4-H/VA Coop Ext:&nbsp;Engaging youths in your neighborhood ass
 ociation
X-ALT-DESC;FMTTYPE=text/html:<!DOCTYPE HTML PUBLIC ""-//W3C//DTD HTML 3.2//
 EN""><HTML><BODY>\n<p><strong>4-H/VA Coop Ext:</strong>&nbsp;Engaging yo
 uths in your neighborhood association</p>\n</BODY></HTML>
END:VEVENT
END:VCALENDAR