BEGIN:VCALENDAR
VERSION:2.0
PRODID:-//www.drfonline.org//event
CALSCALE:GREGORIAN
METHOD:PUBLISH
BEGIN:VEVENT
SUMMARY:Concurrent Session 2 - Advanced Tract
UID:AEFA462F04E7FB4BF2A4CFFD78AD0A2F
ORGANIZER:MAILTO:lmerricks@drfonline.org
DTSTART:20190511T094500
DTEND:20190511T110000
DTSTAMP:20260420T093451
DESCRIPTION: INS Group: Strategic planning, project development, resource i
 dentification &amp; implmentation
X-ALT-DESC;FMTTYPE=text/html:<!DOCTYPE HTML PUBLIC ""-//W3C//DTD HTML 3.2//
 EN""><HTML><BODY>\n<p><strong>INS Group:</strong> Strategic planning, pr
 oject development, resource identification &amp; implmentation</p>\n</BO
 DY></HTML>
END:VEVENT
END:VCALENDAR