BEGIN:VCALENDAR
VERSION:2.0
PRODID:-//www.drfonline.org//event
CALSCALE:GREGORIAN
METHOD:PUBLISH
BEGIN:VEVENT
SUMMARY:Nonprofit-Planning and Evaluation
UID:7B9B40EEDC0F5A278DA060A982A4C8DC
ORGANIZER:MAILTO:lmerricks@drfonline.org
DTSTART:20220426T050000
DTEND:20220426T120000
DTSTAMP:20260419T093822
DESCRIPTION: Instructor: Heinemeier, Sarah, Ph.D., sarahhei@compasseval.com
 Discuss what it takes to incorporate an effective and comprehensive prog
 ram evaluation. Understand program evaluation has an impact on services 
 and sustainability offered by nonprofits.&nbsp;&nbsp; Participants will 
 understand ways in which program evaluation impacts potential funding an
 d organizational sustainability.During this interactive class, understan
 d why evaluation is important and how it includes key stakeholders&rsquo
 ; roles, the utility of theories of change, how to design an evaluation 
 plan, and basics of data collection.&nbsp;&nbsp;Key Learning ObjectivesU
 nderstand the who, why, when, and how of program evaluation.Discuss an a
 ction plan for addressing evaluation in your organization.Instructor Bio
 : Sarah Heinemeier Ph.D. is a founding partner of Compass Evaluation and
  Research, Inc. Sarah became interested and started working in evaluatio
 n as a graduate student at UNC-Chapel Hill. As a practitioner of collabo
 rative and participatory evaluation, she loves interacting with groups a
 nd building capacity to use data as part of an ongoing commitment to imp
 roving conditions and outcomes for children, families, and communities. 
 Ms. Heinemeier has a Master&rsquo;s degree in Anthropology and a Doctora
 te in Social Foundations for Education from UNC-Chapel Hill.RETURN TO TH
 IS PAGE TO REGISTER
X-ALT-DESC;FMTTYPE=text/html:<!DOCTYPE HTML PUBLIC ""-//W3C//DTD HTML 3.2//
 EN""><HTML><BODY>\n<p><strong>Instructor:</strong> Heinemeier, Sarah, Ph
 .D., sarahhei@compasseval.com</p><p>Discuss what it takes to incorporate
  an effective and comprehensive program evaluation. Understand program e
 valuation has an impact on services and sustainability offered by nonpro
 fits.&nbsp;&nbsp; Participants will understand ways in which program eva
 luation impacts potential funding and organizational sustainability.</p>
 <p>During this interactive class, understand why evaluation is important
  and how it includes key stakeholders&rsquo; roles, the utility of theor
 ies of change, how to design an evaluation plan, and basics of data coll
 ection.&nbsp;&nbsp;</p><p><strong>Key Learning Objectives</strong></p><u
 l><li>Understand the who, why, when, and how of program evaluation.</li>
 <li>Discuss an action plan for addressing evaluation in your organizatio
 n.</li></ul><p><strong>Instructor Bio:</strong> Sarah Heinemeier Ph.D. i
 s a founding partner of Compass Evaluation and Research, Inc. Sarah beca
 me interested and started working in evaluation as a graduate student at
  UNC-Chapel Hill. As a practitioner of collaborative and participatory e
 valuation, she loves interacting with groups and building capacity to us
 e data as part of an ongoing commitment to improving conditions and outc
 omes for children, families, and communities. Ms. Heinemeier has a Maste
 r&rsquo;s degree in Anthropology and a Doctorate in Social Foundations f
 or Education from UNC-Chapel Hill.</p><p><strong><a href="https://www.dr
 fonline.org/events/series/id/37/2022-nonprofit-capacity-building-trainin
 ">RETURN TO THIS PAGE TO REGISTER</a></strong></p>\n</BODY></HTML>
END:VEVENT
END:VCALENDAR