BEGIN:VCALENDAR
VERSION:2.0
PRODID:-//www.drfonline.org//event
CALSCALE:GREGORIAN
METHOD:PUBLISH
BEGIN:VEVENT
SUMMARY:Fall See the Possible Follow Up Meeting
UID:95451447B314A95764C8489211C0ADEE
ORGANIZER:MAILTO:lmerricks@drfonline.org
DTSTART:20241211T123000
DTEND:20241211T140000
DTSTAMP:20260419T213559
DESCRIPTION: Meeting at the DRF Offices (512 Bridge St.)
X-ALT-DESC;FMTTYPE=text/html:<!DOCTYPE HTML PUBLIC ""-//W3C//DTD HTML 3.2//
 EN""><HTML><BODY>\n<p>Meeting at the DRF Offices (512 Bridge St.)</p>\n<
 /BODY></HTML>
END:VEVENT
END:VCALENDAR