BEGIN:VCALENDAR
VERSION:2.0
PRODID:-//www.drfonline.org//event
CALSCALE:GREGORIAN
METHOD:PUBLISH
BEGIN:VEVENT
SUMMARY:Dan River District Community Council Meeting
UID:D8E6CD52CB66D7AACC4197E719B343B0
ORGANIZER:MAILTO:lmerricks@drfonline.org
DTSTART:20260402T173000
DTEND:20260402T190000
DTSTAMP:20260421T050710
DESCRIPTION: Location: Tuscany Italian Grill
X-ALT-DESC;FMTTYPE=text/html:<!DOCTYPE HTML PUBLIC ""-//W3C//DTD HTML 3.2//
 EN""><HTML><BODY>\n<p>Location: Tuscany Italian Grill</p>\n</BODY></HTML
 >
END:VEVENT
END:VCALENDAR