BEGIN:VCALENDAR
VERSION:2.0
PRODID:-//www.drfonline.org//event
CALSCALE:GREGORIAN
METHOD:PUBLISH
BEGIN:VEVENT
SUMMARY:Schoolfield Community Council Meeting
UID:D8EBAD27BA8FF546DAC7EDA7B00FFF05
ORGANIZER:MAILTO:lmerricks@drfonline.org
DTSTART:20260506T173000
DTEND:20260506T190000
DTSTAMP:20260421T050742
DESCRIPTION: Location: Joe &amp; Mimma's Restaurant
X-ALT-DESC;FMTTYPE=text/html:<!DOCTYPE HTML PUBLIC ""-//W3C//DTD HTML 3.2//
 EN""><HTML><BODY>\n<p>Location: Joe &amp; Mimma's Restaurant</p>\n</BODY
 ></HTML>
END:VEVENT
END:VCALENDAR