BEGIN:VCALENDAR
VERSION:2.0
PRODID:-//www.drfonline.org//event
CALSCALE:GREGORIAN
METHOD:PUBLISH
BEGIN:VEVENT
SUMMARY:East Central Pittsylvania County Council Meeting
UID:898A534E0A0393A165D26007F843E020
ORGANIZER:MAILTO:lmerricks@drfonline.org
DTSTART:20260514T173000
DTEND:20260514T190000
DTSTAMP:20260419T160800
DESCRIPTION: Location: The Artist Way Cafe
X-ALT-DESC;FMTTYPE=text/html:<!DOCTYPE HTML PUBLIC ""-//W3C//DTD HTML 3.2//
 EN""><HTML><BODY>\n<p>Location: The Artist Way Cafe</p>\n</BODY></HTML>
END:VEVENT
END:VCALENDAR