BEGIN:VCALENDAR
VERSION:2.0
PRODID:-//www.drfonline.org//event
CALSCALE:GREGORIAN
METHOD:PUBLISH
BEGIN:VEVENT
SUMMARY:SW Pittsylvania County Community Council Meeting
UID:DC7B247A096C50A25C55902BAC704006
ORGANIZER:MAILTO:lmerricks@drfonline.org
DTSTART:20260519T173000
DTEND:20260519T190000
DTSTAMP:20260421T064715
DESCRIPTION: Location: TBD
X-ALT-DESC;FMTTYPE=text/html:<!DOCTYPE HTML PUBLIC ""-//W3C//DTD HTML 3.2//
 EN""><HTML><BODY>\n<p>Location: TBD</p>\n</BODY></HTML>
END:VEVENT
END:VCALENDAR