BEGIN:VCALENDAR
VERSION:2.0
PRODID:-//www.drfonline.org//event
CALSCALE:GREGORIAN
METHOD:PUBLISH
BEGIN:VEVENT
SUMMARY:Pelham Community Council Meeting
UID:7C01561EAF9195DA2FA41E7D57D8C0A6
ORGANIZER:MAILTO:lmerricks@drfonline.org
DTSTART:20260527T173000
DTEND:20260527T190000
DTSTAMP:20260419T094931
DESCRIPTION: Location: Pelham Community Center
X-ALT-DESC;FMTTYPE=text/html:<!DOCTYPE HTML PUBLIC ""-//W3C//DTD HTML 3.2//
 EN""><HTML><BODY>\n<p>Location: Pelham Community Center</p>\n</BODY></HT
 ML>
END:VEVENT
END:VCALENDAR