BEGIN:VCALENDAR
VERSION:2.0
PRODID:-//www.drfonline.org//event
CALSCALE:GREGORIAN
METHOD:PUBLISH
BEGIN:VEVENT
SUMMARY:Gretna Community Council Meeting
UID:DCB170ACC9287A941F609F99E6A74951
ORGANIZER:MAILTO:lmerricks@drfonline.org
DTSTART:20260601T180000
DTEND:20260601T193000
DTSTAMP:20260421T065311
DESCRIPTION: Location: Elba Missionary Baptist Church (131 Northside Dr)
X-ALT-DESC;FMTTYPE=text/html:<!DOCTYPE HTML PUBLIC ""-//W3C//DTD HTML 3.2//
 EN""><HTML><BODY>\n<p>Location: Elba Missionary Baptist Church (131 Nort
 hside Dr)</p>\n</BODY></HTML>
END:VEVENT
END:VCALENDAR