BEGIN:VCALENDAR
VERSION:2.0
PRODID:-//www.drfonline.org//event
CALSCALE:GREGORIAN
METHOD:PUBLISH
BEGIN:VEVENT
SUMMARY:Westside Community Council Meeting
UID:833FC3930F23E41EFF66B3FC51AA401A
ORGANIZER:MAILTO:lmerricks@drfonline.org
DTSTART:20260615T173000
DTEND:20260615T190000
DTSTAMP:20260419T131205
DESCRIPTION: Location: Green Street Recreation Center
X-ALT-DESC;FMTTYPE=text/html:<!DOCTYPE HTML PUBLIC ""-//W3C//DTD HTML 3.2//
 EN""><HTML><BODY>\n<p>Location: Green Street Recreation Center</p>\n</BO
 DY></HTML>
END:VEVENT
END:VCALENDAR