BEGIN:VCALENDAR
VERSION:2.0
PRODID:-//www.drfonline.org//event
CALSCALE:GREGORIAN
METHOD:PUBLISH
BEGIN:VEVENT
SUMMARY:Southside Community Council Meeting
UID:DC4FB34DB468480585742FA196F4B59C
ORGANIZER:MAILTO:lmerricks@drfonline.org
DTSTART:20260622T173000
DTEND:20260622T190000
DTSTAMP:20260421T064231
DESCRIPTION: Location: Southside Learning Center
X-ALT-DESC;FMTTYPE=text/html:<!DOCTYPE HTML PUBLIC ""-//W3C//DTD HTML 3.2//
 EN""><HTML><BODY>\n<p>Location: Southside Learning Center</p>\n</BODY></
 HTML>
END:VEVENT
END:VCALENDAR