BEGIN:VCALENDAR
VERSION:2.0
PRODID:-//www.drfonline.org//event
CALSCALE:GREGORIAN
METHOD:PUBLISH
BEGIN:VEVENT
SUMMARY:Chatham Community Council Meeting
UID:8EE66FD7ACE484A930006D94363F7B76
ORGANIZER:MAILTO:lmerricks@drfonline.org
DTSTART:20260707T173000
DTEND:20260707T190000
DTSTAMP:20260419T183752
DESCRIPTION: Location: The Depot (340 Whitehead)
X-ALT-DESC;FMTTYPE=text/html:<!DOCTYPE HTML PUBLIC ""-//W3C//DTD HTML 3.2//
 EN""><HTML><BODY>\n<p>Location: The Depot (340 Whitehead)</p>\n</BODY></
 HTML>
END:VEVENT
END:VCALENDAR