BEGIN:VCALENDAR
VERSION:2.0
PRODID:-//www.drfonline.org//event
CALSCALE:GREGORIAN
METHOD:PUBLISH
BEGIN:VEVENT
SUMMARY:Yanceyville Community Council Meeting
UID:9276FABAAB2DA083A4464A28245AE333
ORGANIZER:MAILTO:lmerricks@drfonline.org
DTSTART:20260714T173000
DTEND:20260714T190000
DTSTAMP:20260419T201733
DESCRIPTION: Location: Caswell Senior Center
X-ALT-DESC;FMTTYPE=text/html:<!DOCTYPE HTML PUBLIC ""-//W3C//DTD HTML 3.2//
 EN""><HTML><BODY>\n<p>Location: Caswell Senior Center</p>\n</BODY></HTML
 >
END:VEVENT
END:VCALENDAR