BEGIN:VCALENDAR
VERSION:2.0
PRODID:-//www.drfonline.org//event
CALSCALE:GREGORIAN
METHOD:PUBLISH
BEGIN:VEVENT
SUMMARY:Outer Northside Community Council Meeting
UID:96E6AE09FEC350EC44100F770AFAA069
ORGANIZER:MAILTO:lmerricks@drfonline.org
DTSTART:20260716T173000
DTEND:20260716T190000
DTSTAMP:20260419T222136
DESCRIPTION: Location: Camp Grove Recreation Center (119 Bradley)
X-ALT-DESC;FMTTYPE=text/html:<!DOCTYPE HTML PUBLIC ""-//W3C//DTD HTML 3.2//
 EN""><HTML><BODY>\n<p>Location: Camp Grove Recreation Center (119 Bradle
 y)</p>\n</BODY></HTML>
END:VEVENT
END:VCALENDAR