BEGIN:VCALENDAR
VERSION:2.0
PRODID:-//www.drfonline.org//event
CALSCALE:GREGORIAN
METHOD:PUBLISH
BEGIN:VEVENT
SUMMARY:Inner Northside Community Council Meeting
UID:9AF9AD35C2ACB667609A23196BF3E566
ORGANIZER:MAILTO:lmerricks@drfonline.org
DTSTART:20260721T173000
DTEND:20260721T190000
DTSTAMP:20260420T001532
DESCRIPTION: Location: TBD
X-ALT-DESC;FMTTYPE=text/html:<!DOCTYPE HTML PUBLIC ""-//W3C//DTD HTML 3.2//
 EN""><HTML><BODY>\n<p>Location: TBD</p>\n</BODY></HTML>
END:VEVENT
END:VCALENDAR