BEGIN:VCALENDAR
VERSION:2.0
PRODID:-//www.drfonline.org//event
CALSCALE:GREGORIAN
METHOD:PUBLISH
BEGIN:VEVENT
SUMMARY:East Central Pittsylvania County Council Meeting
UID:A2CC77B99EBE2CCC800B5C9A2B699676
ORGANIZER:MAILTO:lmerricks@drfonline.org
DTSTART:20260813T173000
DTEND:20260813T190000
DTSTAMP:20260420T035418
DESCRIPTION: Location: The Artist Way Cafe
X-ALT-DESC;FMTTYPE=text/html:<!DOCTYPE HTML PUBLIC ""-//W3C//DTD HTML 3.2//
 EN""><HTML><BODY>\n<p>Location: The Artist Way Cafe</p>\n</BODY></HTML>
END:VEVENT
END:VCALENDAR