BEGIN:VCALENDAR
VERSION:2.0
PRODID:-//www.drfonline.org//event
CALSCALE:GREGORIAN
METHOD:PUBLISH
BEGIN:VEVENT
SUMMARY:North Caswell Community Council Meeting
UID:78AF3CD1E577CD8417D454B6ACBA4483
ORGANIZER:MAILTO:lmerricks@drfonline.org
DTSTART:20260824T173000
DTEND:20260824T190000
DTSTAMP:20260424T073509
DESCRIPTION: Location: Semora Ruritan Club
X-ALT-DESC;FMTTYPE=text/html:<!DOCTYPE HTML PUBLIC ""-//W3C//DTD HTML 3.2//
 EN""><HTML><BODY>\n<p>Location: Semora Ruritan Club</p>\n</BODY></HTML>
END:VEVENT
END:VCALENDAR