BEGIN:VCALENDAR
VERSION:2.0
PRODID:-//www.drfonline.org//event
CALSCALE:GREGORIAN
METHOD:PUBLISH
BEGIN:VEVENT
SUMMARY:Pelham Community Council Meeting
UID:7BA4A79AF0B8F306A99E6AECAC347ADC
ORGANIZER:MAILTO:lmerricks@drfonline.org
DTSTART:20260826T173000
DTEND:20260826T190000
DTSTAMP:20260424T085753
DESCRIPTION: Location: Pelham Community Center
X-ALT-DESC;FMTTYPE=text/html:<!DOCTYPE HTML PUBLIC ""-//W3C//DTD HTML 3.2//
 EN""><HTML><BODY>\n<p>Location: Pelham Community Center</p>\n</BODY></HT
 ML>
END:VEVENT
END:VCALENDAR